Workbook

Sheet Service Line Inventory
A1: Street Address | B1: Town | C1: Zip Code | D1: Lead Gooseneck, Pigtail or Connector Currently Present? | E1: Current Public Side SL Material ⓘ | F1: Was Public SL Material Ever Previously Lead? | G1: Public SL Material Verification Method ⓘ | H1: Public SL Installation or Replacement Date | I1: Public SL Size | J1: Customer SL Material ⓘ | K1: Customer SL Material Verification Method ⓘ | L1: Lead Solder Present? | M1: Building Type | N1: POU or POE Treatment Present? ⓘ | O1: Customer SL Installation or Replacement Date | P1: Customer SL Size | Q1: SL Category ⓘ | R1: Note
A2: 6786 County Rt. 119 | B2: Cameron Mills | C2: 14820 | D2: No | E2: Copper | F2: No | G2: Field Inspection | H2: 1957 | I2: 1.5" < SL ≤ 2" | J2: Copper | K2: Field Inspection | L2: Unknown | M2: School or Childcare | N2: Yes | P2: 1.5" < SL ≤ 2" | Q2: =IF(OR(Table1[[#This Row],[Current Public Side SL Material ⓘ]]="",Table1[[#This Row],[Was Public SL Material Ever Previously Lead?]]="",Table1[[#This Row],[Customer SL Material ⓘ]]=""),"",IF(OR(LEFT(Table1[[#This Row],[Current Public Side SL Material ⓘ]],4)="Lead",LEFT(Table1[[#This Row],[Customer SL Material ⓘ]],4)="Lead"),"Lead",IF(LEFT(Table1[[#This Row],[Current Public Side SL Material ⓘ]],1)="U",(IF(LEFT(Table1[[#This Row],[Customer SL Material ⓘ]],1)="G","GSLRR","Unknown")),(IF(LEFT(Table1[[#This Row],[Customer SL Material ⓘ]],1)="G",(IF(Table1[[#This Row],[Was Public SL Material Ever Previously Lead?]]="No","Non-Lead","GSLRR")),IF(LEFT(Table1[[#This Row],[Customer SL Material ⓘ]],1)="U","Unknown","Non-Lead")))))) -> Non-Lead
Q3: =IF(OR(Table1[[#This Row],[Current Public Side SL Material ⓘ]]="",Table1[[#This Row],[Was Public SL Material Ever Previously Lead?]]="",Table1[[#This Row],[Customer SL Material ⓘ]]=""),"",IF(OR(LEFT(Table1[[#This Row],[Current Public Side SL Material ⓘ]],4)="Lead",LEFT(Table1[[#This Row],[Customer SL Material ⓘ]],4)="Lead"),"Lead",IF(LEFT(Table1[[#This Row],[Current Public Side SL Material ⓘ]],1)="U",(IF(LEFT(Table1[[#This Row],[Customer SL Material ⓘ]],1)="G","GSLRR","Unknown")),(IF(LEFT(Table1[[#This Row],[Customer SL Material ⓘ]],1)="G",(IF(Table1[[#This Row],[Was Public SL Material Ever Previously Lead?]]="No","Non-Lead","GSLRR")),IF(LEFT(Table1[[#This Row],[Customer SL Material ⓘ]],1)="U","Unknown","Non-Lead"))))))
Q4: =IF(OR(Table1[[#This Row],[Current Public Side SL Material ⓘ]]="",Table1[[#This Row],[Was Public SL Material Ever Previously Lead?]]="",Table1[[#This Row],[Customer SL Material ⓘ]]=""),"",IF(OR(LEFT(Table1[[#This Row],[Current Public Side SL Material ⓘ]],4)="Lead",LEFT(Table1[[#This Row],[Customer SL Material ⓘ]],4)="Lead"),"Lead",IF(LEFT(Table1[[#This Row],[Current Public Side SL Material ⓘ]],1)="U",(IF(LEFT(Table1[[#This Row],[Customer SL Material ⓘ]],1)="G","GSLRR","Unknown")),(IF(LEFT(Table1[[#This Row],[Customer SL Material ⓘ]],1)="G",(IF(Table1[[#This Row],[Was Public SL Material Ever Previously Lead?]]="No","Non-Lead","GSLRR")),IF(LEFT(Table1[[#This Row],[Customer SL Material ⓘ]],1)="U","Unknown","Non-Lead"))))))
Q5: =IF(OR(Table1[[#This Row],[Current Public Side SL Material ⓘ]]="",Table1[[#This Row],[Was Public SL Material Ever Previously Lead?]]="",Table1[[#This Row],[Customer SL Material ⓘ]]=""),"",IF(OR(LEFT(Table1[[#This Row],[Current Public Side SL Material ⓘ]],4)="Lead",LEFT(Table1[[#This Row],[Customer SL Material ⓘ]],4)="Lead"),"Lead",IF(LEFT(Table1[[#This Row],[Current Public Side SL Material ⓘ]],1)="U",(IF(LEFT(Table1[[#This Row],[Customer SL Material ⓘ]],1)="G","GSLRR","Unknown")),(IF(LEFT(Table1[[#This Row],[Customer SL Material ⓘ]],1)="G",(IF(Table1[[#This Row],[Was Public SL Material Ever Previously Lead?]]="No","Non-Lead","GSLRR")),IF(LEFT(Table1[[#This Row],[Customer SL Material ⓘ]],1)="U","Unknown","Non-Lead"))))))
Q6: =IF(OR(Table1[[#This Row],[Current Public Side SL Material ⓘ]]="",Table1[[#This Row],[Was Public SL Material Ever Previously Lead?]]="",Table1[[#This Row],[Customer SL Material ⓘ]]=""),"",IF(OR(LEFT(Table1[[#This Row],[Current Public Side SL Material ⓘ]],4)="Lead",LEFT(Table1[[#This Row],[Customer SL Material ⓘ]],4)="Lead"),"Lead",IF(LEFT(Table1[[#This Row],[Current Public Side SL Material ⓘ]],1)="U",(IF(LEFT(Table1[[#This Row],[Customer SL Material ⓘ]],1)="G","GSLRR","Unknown")),(IF(LEFT(Table1[[#This Row],[Customer SL Material ⓘ]],1)="G",(IF(Table1[[#This Row],[Was Public SL Material Ever Previously Lead?]]="No","Non-Lead","GSLRR")),IF(LEFT(Table1[[#This Row],[Customer SL Material ⓘ]],1)="U","Unknown","Non-Lead"))))))
Q7: =IF(OR(Table1[[#This Row],[Current Public Side SL Material ⓘ]]="",Table1[[#This Row],[Was Public SL Material Ever Previously Lead?]]="",Table1[[#This Row],[Customer SL Material ⓘ]]=""),"",IF(OR(LEFT(Table1[[#This Row],[Current Public Side SL Material ⓘ]],4)="Lead",LEFT(Table1[[#This Row],[Customer SL Material ⓘ]],4)="Lead"),"Lead",IF(LEFT(Table1[[#This Row],[Current Public Side SL Material ⓘ]],1)="U",(IF(LEFT(Table1[[#This Row],[Customer SL Material ⓘ]],1)="G","GSLRR","Unknown")),(IF(LEFT(Table1[[#This Row],[Customer SL Material ⓘ]],1)="G",(IF(Table1[[#This Row],[Was Public SL Material Ever Previously Lead?]]="No","Non-Lead","GSLRR")),IF(LEFT(Table1[[#This Row],[Customer SL Material ⓘ]],1)="U","Unknown","Non-Lead"))))))
Q8: =IF(OR(Table1[[#This Row],[Current Public Side SL Material ⓘ]]="",Table1[[#This Row],[Was Public SL Material Ever Previously Lead?]]="",Table1[[#This Row],[Customer SL Material ⓘ]]=""),"",IF(OR(LEFT(Table1[[#This Row],[Current Public Side SL Material ⓘ]],4)="Lead",LEFT(Table1[[#This Row],[Customer SL Material ⓘ]],4)="Lead"),"Lead",IF(LEFT(Table1[[#This Row],[Current Public Side SL Material ⓘ]],1)="U",(IF(LEFT(Table1[[#This Row],[Customer SL Material ⓘ]],1)="G","GSLRR","Unknown")),(IF(LEFT(Table1[[#This Row],[Customer SL Material ⓘ]],1)="G",(IF(Table1[[#This Row],[Was Public SL Material Ever Previously Lead?]]="No","Non-Lead","GSLRR")),IF(LEFT(Table1[[#This Row],[Customer SL Material ⓘ]],1)="U","Unknown","Non-Lead"))))))
Q9: =IF(OR(Table1[[#This Row],[Current Public Side SL Material ⓘ]]="",Table1[[#This Row],[Was Public SL Material Ever Previously Lead?]]="",Table1[[#This Row],[Customer SL Material ⓘ]]=""),"",IF(OR(LEFT(Table1[[#This Row],[Current Public Side SL Material ⓘ]],4)="Lead",LEFT(Table1[[#This Row],[Customer SL Material ⓘ]],4)="Lead"),"Lead",IF(LEFT(Table1[[#This Row],[Current Public Side SL Material ⓘ]],1)="U",(IF(LEFT(Table1[[#This Row],[Customer SL Material ⓘ]],1)="G","GSLRR","Unknown")),(IF(LEFT(Table1[[#This Row],[Customer SL Material ⓘ]],1)="G",(IF(Table1[[#This Row],[Was Public SL Material Ever Previously Lead?]]="No","Non-Lead","GSLRR")),IF(LEFT(Table1[[#This Row],[Customer SL Material ⓘ]],1)="U","Unknown","Non-Lead"))))))
Q10: =IF(OR(Table1[[#This Row],[Current Public Side SL Material ⓘ]]="",Table1[[#This Row],[Was Public SL Material Ever Previously Lead?]]="",Table1[[#This Row],[Customer SL Material ⓘ]]=""),"",IF(OR(LEFT(Table1[[#This Row],[Current Public Side SL Material ⓘ]],4)="Lead",LEFT(Table1[[#This Row],[Customer SL Material ⓘ]],4)="Lead"),"Lead",IF(LEFT(Table1[[#This Row],[Current Public Side SL Material ⓘ]],1)="U",(IF(LEFT(Table1[[#This Row],[Customer SL Material ⓘ]],1)="G","GSLRR","Unknown")),(IF(LEFT(Table1[[#This Row],[Customer SL Material ⓘ]],1)="G",(IF(Table1[[#This Row],[Was Public SL Material Ever Previously Lead?]]="No","Non-Lead","GSLRR")),IF(LEFT(Table1[[#This Row],[Customer SL Material ⓘ]],1)="U","Unknown","Non-Lead"))))))
Q11: =IF(OR(Table1[[#This Row],[Current Public Side SL Material ⓘ]]="",Table1[[#This Row],[Was Public SL Material Ever Previously Lead?]]="",Table1[[#This Row],[Customer SL Material ⓘ]]=""),"",IF(OR(LEFT(Table1[[#This Row],[Current Public Side SL Material ⓘ]],4)="Lead",LEFT(Table1[[#This Row],[Customer SL Material ⓘ]],4)="Lead"),"Lead",IF(LEFT(Table1[[#This Row],[Current Public Side SL Material ⓘ]],1)="U",(IF(LEFT(Table1[[#This Row],[Customer SL Material ⓘ]],1)="G","GSLRR","Unknown")),(IF(LEFT(Table1[[#This Row],[Customer SL Material ⓘ]],1)="G",(IF(Table1[[#This Row],[Was Public SL Material Ever Previously Lead?]]="No","Non-Lead","GSLRR")),IF(LEFT(Table1[[#This Row],[Customer SL Material ⓘ]],1)="U","Unknown","Non-Lead"))))))
Q12: =IF(OR(Table1[[#This Row],[Current Public Side SL Material ⓘ]]="",Table1[[#This Row],[Was Public SL Material Ever Previously Lead?]]="",Table1[[#This Row],[Customer SL Material ⓘ]]=""),"",IF(OR(LEFT(Table1[[#This Row],[Current Public Side SL Material ⓘ]],4)="Lead",LEFT(Table1[[#This Row],[Customer SL Material ⓘ]],4)="Lead"),"Lead",IF(LEFT(Table1[[#This Row],[Current Public Side SL Material ⓘ]],1)="U",(IF(LEFT(Table1[[#This Row],[Customer SL Material ⓘ]],1)="G","GSLRR","Unknown")),(IF(LEFT(Table1[[#This Row],[Customer SL Material ⓘ]],1)="G",(IF(Table1[[#This Row],[Was Public SL Material Ever Previously Lead?]]="No","Non-Lead","GSLRR")),IF(LEFT(Table1[[#This Row],[Customer SL Material ⓘ]],1)="U","Unknown","Non-Lead"))))))
Q13: =IF(OR(Table1[[#This Row],[Current Public Side SL Material ⓘ]]="",Table1[[#This Row],[Was Public SL Material Ever Previously Lead?]]="",Table1[[#This Row],[Customer SL Material ⓘ]]=""),"",IF(OR(LEFT(Table1[[#This Row],[Current Public Side SL Material ⓘ]],4)="Lead",LEFT(Table1[[#This Row],[Customer SL Material ⓘ]],4)="Lead"),"Lead",IF(LEFT(Table1[[#This Row],[Current Public Side SL Material ⓘ]],1)="U",(IF(LEFT(Table1[[#This Row],[Customer SL Material ⓘ]],1)="G","GSLRR","Unknown")),(IF(LEFT(Table1[[#This Row],[Customer SL Material ⓘ]],1)="G",(IF(Table1[[#This Row],[Was Public SL Material Ever Previously Lead?]]="No","Non-Lead","GSLRR")),IF(LEFT(Table1[[#This Row],[Customer SL Material ⓘ]],1)="U","Unknown","Non-Lead"))))))
Q14: =IF(OR(Table1[[#This Row],[Current Public Side SL Material ⓘ]]="",Table1[[#This Row],[Was Public SL Material Ever Previously Lead?]]="",Table1[[#This Row],[Customer SL Material ⓘ]]=""),"",IF(OR(LEFT(Table1[[#This Row],[Current Public Side SL Material ⓘ]],4)="Lead",LEFT(Table1[[#This Row],[Customer SL Material ⓘ]],4)="Lead"),"Lead",IF(LEFT(Table1[[#This Row],[Current Public Side SL Material ⓘ]],1)="U",(IF(LEFT(Table1[[#This Row],[Customer SL Material ⓘ]],1)="G","GSLRR","Unknown")),(IF(LEFT(Table1[[#This Row],[Customer SL Material ⓘ]],1)="G",(IF(Table1[[#This Row],[Was Public SL Material Ever Previously Lead?]]="No","Non-Lead","GSLRR")),IF(LEFT(Table1[[#This Row],[Customer SL Material ⓘ]],1)="U","Unknown","Non-Lead"))))))
... Q501: =IF(OR(Table1[[#This Row],[Current Public Side SL Material ⓘ]]="",Table1[[#This Row],[Was Public SL Material Ever Previously Lead?]]="",Table1[[#This Row],[Customer SL Material ⓘ]]=""),"",IF(OR(LEFT(Table1[[#This Row],[Current Public Side SL Material ⓘ]],4)="Lead",LEFT(Table1[[#This Row],[Customer SL Material ⓘ]],4)="Lead"),"Lead",IF(LEFT(Table1[[#This Row],[Current Public Side SL Material ⓘ]],1)="U",(IF(LEFT(Table1[[#This Row],[Customer SL Material ⓘ]],1)="G","GSLRR","Unknown")),(IF(LEFT(Table1[[#This Row],[Customer SL Material ⓘ]],1)="G",(IF(Table1[[#This Row],[Was Public SL Material Ever Previously Lead?]]="No","Non-Lead","GSLRR")),IF(LEFT(Table1[[#This Row],[Customer SL Material ⓘ]],1)="U","Unknown","Non-Lead"))))))

Sheet Inventory Summary
A1: Summary of Lead Service Line Inventory
A2: I. System Information
A3: Water System Name | B3: Valley Early Childhood School
A4: PWS ID Number | B4: 5002549
A6: II. Contact Information for Owner / Licensed Operator of Record Completing the Form
A7: Contact Name | C7: Kress Foster
A8: Contact Phone Number | C8: 607-359-3306
A9: Contact Email Address | C9: kfoster@addisoncsd.org
A11: III. Summary of Inventory
A12: Total Number of Service Lines in the Distribution System | G12: =G13+G17 -> 1
A13: Total Number of Identified Service Lines | G13: =SUM(G14:I16) -> 1
A14: Total Number of Lead Service Lines | G14: =COUNTIF('Service Line Inventory'!$Q$2:$Q$501,"Lead") -> 0
A15: Total Number of GSLRR | G15: =COUNTIF('Service Line Inventory'!$Q$2:$Q$501,"GSLRR") -> 0
A16: Total Number of Non-LSL | G16: =COUNTIF('Service Line Inventory'!$Q$2:$Q$501,"Non-Lead") -> 1
A17: Total Number of Unknown Service Lines | G17: =COUNTIF('Service Line Inventory'!$Q$2:$Q$501,"Unknown") -> 0
A19: Service Lines | C19: Lead | D19: GSL or GSLRR | F19: Non-Lead | H19: Unknown
A20: PWS - Side Service Lines | C20: =COUNTIF(Table1[Current Public Side SL Material ⓘ],"Lead*") -> 0 | D20: =COUNTIF(Table1[Current Public Side SL Material ⓘ],"Galvanized*") -> 0 | E20: GSL | F20: =COUNTIF(Table1[Current Public Side SL Material ⓘ],"C*")+COUNTIF(Table1[Current Public Side SL Material ⓘ],"P*")+COUNTIF(Table1[Current Public Side SL Material ⓘ],"K*") -> 1 | H20: =COUNTIF(Table1[Current Public Side SL Material ⓘ],"U*") -> 0
A21: Customer - Side Service Lines | C21: =COUNTIF(Table1[Customer SL Material ⓘ],"Lead*") -> 0 | D21: =COUNTIF(Table1[Customer SL Material ⓘ],"Galvanized*") -> 0 | E21: GSL | F21: =COUNTIF(Table1[Customer SL Material ⓘ],"C*")+COUNTIF(Table1[Customer SL Material ⓘ],"P*")+COUNTIF(Table1[Customer SL Material ⓘ],"K*") -> 1 | H21: =COUNTIF(Table1[Customer SL Material ⓘ],"U*") -> 0
A22: Total Number of Service Lines in the Distribution System | C22: =COUNTIF(Table1[SL Category ⓘ],"Lead") -> 0 | D22: =COUNTIF(Table1[SL Category ⓘ],"GSLRR") -> 0 | E22: GSLRR | F22: =COUNTIF(Table1[SL Category ⓘ],"Non-Lead") -> 1 | H22: =COUNTIF(Table1[SL Category ⓘ],"Unknown") -> 0
A24: Service Line Identification Methods
A25: Identification Methods | E25: PWS- Side SLs | G25: Customer-Side SLs
A26: Historical Records | E26: =COUNTIF('Service Line Inventory'!G2:G501,"Records") -> 0 | G26: =COUNTIF('Service Line Inventory'!K2:K501,"Records") -> 0
A27: Field Inspection | E27: =COUNTIF('Service Line Inventory'!G2:G501,"Field Inspection") -> 1 | G27: =COUNTIF('Service Line Inventory'!K2:K501,A27) -> 1
A28: Customer Identification with Photo or other Verification | E28: NA | G28: =COUNTIF('Service Line Inventory'!K2:K501,A28) -> 0
A29: Excavation | E29: =COUNTIF('Service Line Inventory'!$G$2:$G$501,A29) -> 0 | G29: =COUNTIF('Service Line Inventory'!K2:K501,A29) -> 0
A30: Sequential Sampling | E30: =COUNTIF('Service Line Inventory'!$G$2:$G$501,A30) -> 0 | G30: =COUNTIF('Service Line Inventory'!K2:K501,A30) -> 0
A31: Statistical Analysis/Predictive Model | E31: =COUNTIF('Service Line Inventory'!$G$2:$G$501,A31) -> 0 | G31: =COUNTIF('Service Line Inventory'!K2:K501,A31) -> 0
A33: IV. Inventory Availability - The inventory must be available to public
A34: If 50,000 customers or greater: Posting the inventory online water system's website. | E34: Address:
A35: If under 50,000 customers: Explain how to access the inventory
A37: V. Certifications
A38: By submitting this form, I have verified and certify the information listed in this form is true and accurate to the best of my knowledge and belief.
A42: Kress Foster | D42: Director of Facilities | I42: 45551
B43: Name | F43: Title | I43: Date
